BEGIN:VCALENDAR
VERSION:2.0
PRODID:-//Provincial Priory of Hampshire and Isle of Wight - ECPv6.15.20//NONSGML v1.0//EN
CALSCALE:GREGORIAN
METHOD:PUBLISH
X-ORIGINAL-URL:https://www.hantsiowkt.org.uk
X-WR-CALDESC:Events for Provincial Priory of Hampshire and Isle of Wight
REFRESH-INTERVAL;VALUE=DURATION:PT1H
X-Robots-Tag:noindex
X-PUBLISHED-TTL:PT1H
BEGIN:VTIMEZONE
TZID:UTC
BEGIN:STANDARD
TZOFFSETFROM:+0000
TZOFFSETTO:+0000
TZNAME:UTC
DTSTART:20250101T000000
END:STANDARD
END:VTIMEZONE
BEGIN:VEVENT
DTSTART;VALUE=DATE:20260905
DTEND;VALUE=DATE:20260906
DTSTAMP:20260421T212522
CREATED:20260123T110823Z
LAST-MODIFIED:20260123T110823Z
UID:2709-1788566400-1788652799@www.hantsiowkt.org.uk
SUMMARY:Provincial AGM - Novotel\, Southampton
DESCRIPTION:
URL:https://www.hantsiowkt.org.uk/event/provincial-agm-novotel-southampton/
END:VEVENT
BEGIN:VEVENT
DTSTART;VALUE=DATE:20261109
DTEND;VALUE=DATE:20261110
DTSTAMP:20260421T212522
CREATED:20260123T110635Z
LAST-MODIFIED:20260123T110636Z
UID:2707-1794182400-1794268799@www.hantsiowkt.org.uk
SUMMARY:Great Priory of Malta - Great Queens Street\, London
DESCRIPTION:
URL:https://www.hantsiowkt.org.uk/event/great-priory-of-malta-great-queens-street-london/
END:VEVENT
END:VCALENDAR