BEGIN:VCALENDAR
VERSION:2.0
PRODID:-//Provincial Priory of Hampshire and Isle of Wight - ECPv6.15.20//NONSGML v1.0//EN
CALSCALE:GREGORIAN
METHOD:PUBLISH
X-WR-CALNAME:Provincial Priory of Hampshire and Isle of Wight
X-ORIGINAL-URL:https://www.hantsiowkt.org.uk
X-WR-CALDESC:Events for Provincial Priory of Hampshire and Isle of Wight
REFRESH-INTERVAL;VALUE=DURATION:PT1H
X-Robots-Tag:noindex
X-PUBLISHED-TTL:PT1H
BEGIN:VTIMEZONE
TZID:UTC
BEGIN:STANDARD
TZOFFSETFROM:+0000
TZOFFSETTO:+0000
TZNAME:UTC
DTSTART:20230101T000000
END:STANDARD
END:VTIMEZONE
BEGIN:VEVENT
DTSTART;VALUE=DATE:20250307
DTEND;VALUE=DATE:20250308
DTSTAMP:20260422T004853
CREATED:20240908T092543Z
LAST-MODIFIED:20240909T184108Z
UID:2297-1741305600-1741391999@www.hantsiowkt.org.uk
SUMMARY:Pilgrim Preceptory & Priory No.357 - OFFICIAL VISIT
DESCRIPTION:Havant
URL:https://www.hantsiowkt.org.uk/event/pilgrim-preceptory-priory-no-357-3/
END:VEVENT
BEGIN:VEVENT
DTSTART;VALUE=DATE:20250307
DTEND;VALUE=DATE:20250308
DTSTAMP:20260422T004853
CREATED:20240908T085726Z
LAST-MODIFIED:20240908T085726Z
UID:2247-1741305600-1741391999@www.hantsiowkt.org.uk
SUMMARY:Sepulchre Preceptory & Sandeman Priory No.27 - Installation
DESCRIPTION:Christchurch
URL:https://www.hantsiowkt.org.uk/event/sepulchre-preceptory-sandeman-priory-no-27-installation/
END:VEVENT
BEGIN:VEVENT
DTSTART;VALUE=DATE:20250304
DTEND;VALUE=DATE:20250305
DTSTAMP:20260422T004853
CREATED:20240908T141528Z
LAST-MODIFIED:20240908T141528Z
UID:2336-1741046400-1741132799@www.hantsiowkt.org.uk
SUMMARY:Frescewatre Preceptory & Priory No.575
DESCRIPTION:East Cowes
URL:https://www.hantsiowkt.org.uk/event/frescewatre-preceptory-priory-no-575-3/
END:VEVENT
BEGIN:VEVENT
DTSTART;VALUE=DATE:20250224
DTEND;VALUE=DATE:20250225
DTSTAMP:20260422T004853
CREATED:20240908T091424Z
LAST-MODIFIED:20240908T091441Z
UID:2277-1740355200-1740441599@www.hantsiowkt.org.uk
SUMMARY:Loveland Preceptory & Priory No.194 - Installation
DESCRIPTION:Bournemouth
URL:https://www.hantsiowkt.org.uk/event/loveland-preceptory-priory-no-194-3/
END:VEVENT
BEGIN:VEVENT
DTSTART;VALUE=DATE:20250224
DTEND;VALUE=DATE:20250225
DTSTAMP:20260422T004853
CREATED:20240908T091030Z
LAST-MODIFIED:20240908T091040Z
UID:2264-1740355200-1740441599@www.hantsiowkt.org.uk
SUMMARY:William Stuart Preceptory & Priory No.76A Malta
DESCRIPTION:Alton
URL:https://www.hantsiowkt.org.uk/event/william-stuart-preceptory-priory-no-76a/
END:VEVENT
BEGIN:VEVENT
DTSTART;VALUE=DATE:20250221
DTEND;VALUE=DATE:20250222
DTSTAMP:20260422T004853
CREATED:20240908T091742Z
LAST-MODIFIED:20240909T184037Z
UID:2288-1740096000-1740182399@www.hantsiowkt.org.uk
SUMMARY:Vectis Preceptory & Priory No.237 - OFFICIAL VISIT
DESCRIPTION:Ryde – IOW
URL:https://www.hantsiowkt.org.uk/event/vectis-preceptory-priory-no-237-3/
END:VEVENT
BEGIN:VEVENT
DTSTART;VALUE=DATE:20250220
DTEND;VALUE=DATE:20250221
DTSTAMP:20260422T004853
CREATED:20240908T141852Z
LAST-MODIFIED:20240908T141852Z
UID:2345-1740009600-1740095999@www.hantsiowkt.org.uk
SUMMARY:Parsifal Preceptory & Priory No.617
DESCRIPTION:Chandlers Ford
URL:https://www.hantsiowkt.org.uk/event/parsifal-preceptory-priory-no-617-3/
END:VEVENT
BEGIN:VEVENT
DTSTART;VALUE=DATE:20250127
DTEND;VALUE=DATE:20250128
DTSTAMP:20260422T004853
CREATED:20240908T140529Z
LAST-MODIFIED:20240908T140529Z
UID:2303-1737936000-1738022399@www.hantsiowkt.org.uk
SUMMARY:St Michael & St Mary Preceptory No.432
DESCRIPTION:Andover
URL:https://www.hantsiowkt.org.uk/event/st-michael-st-mary-preceptory-no-432-2/
END:VEVENT
BEGIN:VEVENT
DTSTART;VALUE=DATE:20250124
DTEND;VALUE=DATE:20250125
DTSTAMP:20260422T004853
CREATED:20240908T141152Z
LAST-MODIFIED:20240908T141152Z
UID:2325-1737676800-1737763199@www.hantsiowkt.org.uk
SUMMARY:Excalibur Preceptory & Priory No.574
DESCRIPTION:Botley
URL:https://www.hantsiowkt.org.uk/event/excalibur-preceptory-priory-no-574-2/
END:VEVENT
BEGIN:VEVENT
DTSTART;VALUE=DATE:20250116
DTEND;VALUE=DATE:20250117
DTSTAMP:20260422T004853
CREATED:20240908T141759Z
LAST-MODIFIED:20240908T141815Z
UID:2342-1736985600-1737071999@www.hantsiowkt.org.uk
SUMMARY:Parsifal Preceptory & Priory No.617
DESCRIPTION:Chandlers Ford
URL:https://www.hantsiowkt.org.uk/event/parsifal-preceptory-priory-no-617-2/
END:VEVENT
BEGIN:VEVENT
DTSTART;VALUE=DATE:20250116
DTEND;VALUE=DATE:20250117
DTSTAMP:20260422T004853
CREATED:20240908T140804Z
LAST-MODIFIED:20240909T184010Z
UID:2312-1736985600-1737071999@www.hantsiowkt.org.uk
SUMMARY:Emmaus Preceptory & Priory No.569 - OFFICIAL VISIT
DESCRIPTION:Horndean
URL:https://www.hantsiowkt.org.uk/event/emmaus-preceptory-priory-no-569-2/
END:VEVENT
BEGIN:VEVENT
DTSTART;VALUE=DATE:20250115
DTEND;VALUE=DATE:20250116
DTSTAMP:20260422T004853
CREATED:20240908T090527Z
LAST-MODIFIED:20240909T183948Z
UID:2253-1736899200-1736985599@www.hantsiowkt.org.uk
SUMMARY:Royal Gloucester Preceptory & Priory No.32 - OFFICIAL VISIT
DESCRIPTION:Albion Place\, Southampton
URL:https://www.hantsiowkt.org.uk/event/royal-gloucester-preceptory-priory-no-32-copy/
END:VEVENT
BEGIN:VEVENT
DTSTART;VALUE=DATE:20250114
DTEND;VALUE=DATE:20250115
DTSTAMP:20260422T004853
CREATED:20240908T141442Z
LAST-MODIFIED:20240908T141451Z
UID:2333-1736812800-1736899199@www.hantsiowkt.org.uk
SUMMARY:Frescewatre Preceptory & Priory No.575 - Malta
DESCRIPTION:East Cowes
URL:https://www.hantsiowkt.org.uk/event/frescewatre-preceptory-priory-no-575-2/
END:VEVENT
BEGIN:VEVENT
DTSTART;VALUE=DATE:20250110
DTEND;VALUE=DATE:20250111
DTSTAMP:20260422T004853
CREATED:20240908T085330Z
LAST-MODIFIED:20240908T085519Z
UID:2235-1736467200-1736553599@www.hantsiowkt.org.uk
SUMMARY:Royal Naval Preceptory & Priory No.2 - Installation
DESCRIPTION:Portsmouth
URL:https://www.hantsiowkt.org.uk/event/royal-naval-preceptory-priory-no-2-2/
END:VEVENT
BEGIN:VEVENT
DTSTART;VALUE=DATE:20241206
DTEND;VALUE=DATE:20241207
DTSTAMP:20260422T004853
CREATED:20240908T092459Z
LAST-MODIFIED:20240909T183910Z
UID:2295-1733443200-1733529599@www.hantsiowkt.org.uk
SUMMARY:Pilgrim Preceptory & Priory No.357 - OFFICIAL VISIT
DESCRIPTION:Havant
URL:https://www.hantsiowkt.org.uk/event/pilgrim-preceptory-priory-no-357-2/
END:VEVENT
BEGIN:VEVENT
DTSTART;VALUE=DATE:20241206
DTEND;VALUE=DATE:20241207
DTSTAMP:20260422T004853
CREATED:20240908T085656Z
LAST-MODIFIED:20240908T085656Z
UID:2245-1733443200-1733529599@www.hantsiowkt.org.uk
SUMMARY:Sepulchre Preceptory & Sandeman Priory No.27
DESCRIPTION:Christchurch
URL:https://www.hantsiowkt.org.uk/event/sepulchre-preceptory-sandeman-priory-no-27-2/
END:VEVENT
BEGIN:VEVENT
DTSTART;VALUE=DATE:20241129
DTEND;VALUE=DATE:20241130
DTSTAMP:20260422T004853
CREATED:20240908T091709Z
LAST-MODIFIED:20240908T091709Z
UID:2286-1732838400-1732924799@www.hantsiowkt.org.uk
SUMMARY:Vectis Preceptory & Priory No.237
DESCRIPTION:Ryde – IOW
URL:https://www.hantsiowkt.org.uk/event/vectis-preceptory-priory-no-237-2/
END:VEVENT
BEGIN:VEVENT
DTSTART;VALUE=DATE:20241125
DTEND;VALUE=DATE:20241126
DTSTAMP:20260422T004853
CREATED:20240908T140452Z
LAST-MODIFIED:20240908T140452Z
UID:2301-1732492800-1732579199@www.hantsiowkt.org.uk
SUMMARY:St Michael & St Mary Preceptory No.432
DESCRIPTION:Andover
URL:https://www.hantsiowkt.org.uk/event/st-michael-st-mary-preceptory-no-432/
END:VEVENT
BEGIN:VEVENT
DTSTART;VALUE=DATE:20241125
DTEND;VALUE=DATE:20241126
DTSTAMP:20260422T004853
CREATED:20240908T091337Z
LAST-MODIFIED:20240908T091346Z
UID:2274-1732492800-1732579199@www.hantsiowkt.org.uk
SUMMARY:Loveland Preceptory & Priory No.194 - Malta
DESCRIPTION:Bournemouth
URL:https://www.hantsiowkt.org.uk/event/loveland-preceptory-priory-no-194-2/
END:VEVENT
BEGIN:VEVENT
DTSTART;VALUE=DATE:20241105
DTEND;VALUE=DATE:20241106
DTSTAMP:20260422T004853
CREATED:20240908T141357Z
LAST-MODIFIED:20240909T183851Z
UID:2330-1730764800-1730851199@www.hantsiowkt.org.uk
SUMMARY:Frescewatre Preceptory & Priory No.575 - Installation - OFFICIAL VISIT
DESCRIPTION:East Cowes
URL:https://www.hantsiowkt.org.uk/event/frescewatre-preceptory-priory-no-575/
END:VEVENT
BEGIN:VEVENT
DTSTART;VALUE=DATE:20241028
DTEND;VALUE=DATE:20241029
DTSTAMP:20260422T004853
CREATED:20240908T090931Z
LAST-MODIFIED:20240909T183813Z
UID:2262-1730073600-1730159999@www.hantsiowkt.org.uk
SUMMARY:William Stuart Preceptory & Priory No.76A - KT/KM - OFFICIAL VISIT
DESCRIPTION:Alton
URL:https://www.hantsiowkt.org.uk/event/william-stuart-preceptory-priory-no-76a-kt-km/
END:VEVENT
BEGIN:VEVENT
DTSTART;VALUE=DATE:20241025
DTEND;VALUE=DATE:20241026
DTSTAMP:20260422T004853
CREATED:20240908T141014Z
LAST-MODIFIED:20240908T141026Z
UID:2321-1729814400-1729900799@www.hantsiowkt.org.uk
SUMMARY:Excalibur Preceptory & Priory No.574 - Installation
DESCRIPTION:Botley
URL:https://www.hantsiowkt.org.uk/event/excalibur-preceptory-priory-no-574/
END:VEVENT
BEGIN:VEVENT
DTSTART;VALUE=DATE:20241018
DTEND;VALUE=DATE:20241019
DTSTAMP:20260422T004853
CREATED:20240908T091622Z
LAST-MODIFIED:20240908T091635Z
UID:2283-1729209600-1729295999@www.hantsiowkt.org.uk
SUMMARY:Vectis Preceptory & Priory No.237 - Installation
DESCRIPTION:Ryde – IOW
URL:https://www.hantsiowkt.org.uk/event/vectis-preceptory-priory-no-237/
END:VEVENT
BEGIN:VEVENT
DTSTART;VALUE=DATE:20241017
DTEND;VALUE=DATE:20241018
DTSTAMP:20260422T004853
CREATED:20240908T141733Z
LAST-MODIFIED:20240908T141733Z
UID:2340-1729123200-1729209599@www.hantsiowkt.org.uk
SUMMARY:Parsifal Preceptory & Priory No.617
DESCRIPTION:Chandlers Ford
URL:https://www.hantsiowkt.org.uk/event/parsifal-preceptory-priory-no-617/
END:VEVENT
BEGIN:VEVENT
DTSTART;VALUE=DATE:20241017
DTEND;VALUE=DATE:20241018
DTSTAMP:20260422T004853
CREATED:20240908T140730Z
LAST-MODIFIED:20240908T140730Z
UID:2310-1729123200-1729209599@www.hantsiowkt.org.uk
SUMMARY:Emmaus Preceptory & Priory No.569
DESCRIPTION:Horndean
URL:https://www.hantsiowkt.org.uk/event/emmaus-preceptory-priory-no-569/
END:VEVENT
BEGIN:VEVENT
DTSTART;VALUE=DATE:20241004
DTEND;VALUE=DATE:20241005
DTSTAMP:20260422T004853
CREATED:20240908T085627Z
LAST-MODIFIED:20240908T085627Z
UID:2243-1728000000-1728086399@www.hantsiowkt.org.uk
SUMMARY:Sepulchre Preceptory & Sandeman Priory No.27
DESCRIPTION:Christchurch
URL:https://www.hantsiowkt.org.uk/event/sepulchre-preceptory-sandeman-priory-no-27/
END:VEVENT
BEGIN:VEVENT
DTSTART;VALUE=DATE:20240927
DTEND;VALUE=DATE:20240928
DTSTAMP:20260422T004853
CREATED:20240908T085244Z
LAST-MODIFIED:20240909T183753Z
UID:2233-1727395200-1727481599@www.hantsiowkt.org.uk
SUMMARY:Royal Naval Preceptory & Priory No.2 - OFFICIAL VISIT
DESCRIPTION:Portsmouth
URL:https://www.hantsiowkt.org.uk/event/royal-naval-preceptory-priory-no-2/
END:VEVENT
BEGIN:VEVENT
DTSTART;VALUE=DATE:20240923
DTEND;VALUE=DATE:20240924
DTSTAMP:20260422T004853
CREATED:20240908T091302Z
LAST-MODIFIED:20240909T183728Z
UID:2272-1727049600-1727135999@www.hantsiowkt.org.uk
SUMMARY:Loveland Preceptory & Priory No.194 - OFFICIAL VISIT
DESCRIPTION:Bournemouth
URL:https://www.hantsiowkt.org.uk/event/loveland-preceptory-priory-no-194/
END:VEVENT
BEGIN:VEVENT
DTSTART;VALUE=DATE:20240923
DTEND;VALUE=DATE:20240924
DTSTAMP:20260422T004853
CREATED:20240908T085918Z
LAST-MODIFIED:20240908T085918Z
UID:2251-1727049600-1727135999@www.hantsiowkt.org.uk
SUMMARY:Royal Gloucester Preceptory & Priory No.32
DESCRIPTION:Albion Place\, Southampton
URL:https://www.hantsiowkt.org.uk/event/royal-gloucester-preceptory-priory-no-32/
END:VEVENT
BEGIN:VEVENT
DTSTART;VALUE=DATE:20240906
DTEND;VALUE=DATE:20240907
DTSTAMP:20260422T004854
CREATED:20240908T092354Z
LAST-MODIFIED:20240908T092354Z
UID:2293-1725580800-1725667199@www.hantsiowkt.org.uk
SUMMARY:Pilgrim Preceptory & Priory No.357
DESCRIPTION:Havant
URL:https://www.hantsiowkt.org.uk/event/pilgrim-preceptory-priory-no-357/
END:VEVENT
END:VCALENDAR