BEGIN:VCALENDAR
VERSION:2.0
PRODID:-//Provincial Priory of Hampshire and Isle of Wight - ECPv6.15.20//NONSGML v1.0//EN
CALSCALE:GREGORIAN
METHOD:PUBLISH
X-WR-CALNAME:Provincial Priory of Hampshire and Isle of Wight
X-ORIGINAL-URL:https://www.hantsiowkt.org.uk
X-WR-CALDESC:Events for Provincial Priory of Hampshire and Isle of Wight
REFRESH-INTERVAL;VALUE=DURATION:PT1H
X-Robots-Tag:noindex
X-PUBLISHED-TTL:PT1H
BEGIN:VTIMEZONE
TZID:UTC
BEGIN:STANDARD
TZOFFSETFROM:+0000
TZOFFSETTO:+0000
TZNAME:UTC
DTSTART:20230101T000000
END:STANDARD
END:VTIMEZONE
BEGIN:VEVENT
DTSTART;VALUE=DATE:20241017
DTEND;VALUE=DATE:20241018
DTSTAMP:20260421T193557
CREATED:20240908T140730Z
LAST-MODIFIED:20240908T140730Z
UID:2310-1729123200-1729209599@www.hantsiowkt.org.uk
SUMMARY:Emmaus Preceptory & Priory No.569
DESCRIPTION:Horndean
URL:https://www.hantsiowkt.org.uk/event/emmaus-preceptory-priory-no-569/
END:VEVENT
BEGIN:VEVENT
DTSTART;VALUE=DATE:20241004
DTEND;VALUE=DATE:20241005
DTSTAMP:20260421T193557
CREATED:20240908T085627Z
LAST-MODIFIED:20240908T085627Z
UID:2243-1728000000-1728086399@www.hantsiowkt.org.uk
SUMMARY:Sepulchre Preceptory & Sandeman Priory No.27
DESCRIPTION:Christchurch
URL:https://www.hantsiowkt.org.uk/event/sepulchre-preceptory-sandeman-priory-no-27/
END:VEVENT
BEGIN:VEVENT
DTSTART;VALUE=DATE:20240927
DTEND;VALUE=DATE:20240928
DTSTAMP:20260421T193557
CREATED:20240908T085244Z
LAST-MODIFIED:20240909T183753Z
UID:2233-1727395200-1727481599@www.hantsiowkt.org.uk
SUMMARY:Royal Naval Preceptory & Priory No.2 - OFFICIAL VISIT
DESCRIPTION:Portsmouth
URL:https://www.hantsiowkt.org.uk/event/royal-naval-preceptory-priory-no-2/
END:VEVENT
BEGIN:VEVENT
DTSTART;VALUE=DATE:20240923
DTEND;VALUE=DATE:20240924
DTSTAMP:20260421T193557
CREATED:20240908T091302Z
LAST-MODIFIED:20240909T183728Z
UID:2272-1727049600-1727135999@www.hantsiowkt.org.uk
SUMMARY:Loveland Preceptory & Priory No.194 - OFFICIAL VISIT
DESCRIPTION:Bournemouth
URL:https://www.hantsiowkt.org.uk/event/loveland-preceptory-priory-no-194/
END:VEVENT
BEGIN:VEVENT
DTSTART;VALUE=DATE:20240923
DTEND;VALUE=DATE:20240924
DTSTAMP:20260421T193557
CREATED:20240908T085918Z
LAST-MODIFIED:20240908T085918Z
UID:2251-1727049600-1727135999@www.hantsiowkt.org.uk
SUMMARY:Royal Gloucester Preceptory & Priory No.32
DESCRIPTION:Albion Place\, Southampton
URL:https://www.hantsiowkt.org.uk/event/royal-gloucester-preceptory-priory-no-32/
END:VEVENT
BEGIN:VEVENT
DTSTART;VALUE=DATE:20240906
DTEND;VALUE=DATE:20240907
DTSTAMP:20260421T193557
CREATED:20240908T092354Z
LAST-MODIFIED:20240908T092354Z
UID:2293-1725580800-1725667199@www.hantsiowkt.org.uk
SUMMARY:Pilgrim Preceptory & Priory No.357
DESCRIPTION:Havant
URL:https://www.hantsiowkt.org.uk/event/pilgrim-preceptory-priory-no-357/
END:VEVENT
END:VCALENDAR