BEGIN:VCALENDAR
VERSION:2.0
PRODID:-//Provincial Priory of Hampshire and Isle of Wight - ECPv6.15.20//NONSGML v1.0//EN
CALSCALE:GREGORIAN
METHOD:PUBLISH
X-WR-CALNAME:Provincial Priory of Hampshire and Isle of Wight
X-ORIGINAL-URL:https://www.hantsiowkt.org.uk
X-WR-CALDESC:Events for Provincial Priory of Hampshire and Isle of Wight
REFRESH-INTERVAL;VALUE=DURATION:PT1H
X-Robots-Tag:noindex
X-PUBLISHED-TTL:PT1H
BEGIN:VTIMEZONE
TZID:UTC
BEGIN:STANDARD
TZOFFSETFROM:+0000
TZOFFSETTO:+0000
TZNAME:UTC
DTSTART:20240101T000000
END:STANDARD
END:VTIMEZONE
BEGIN:VEVENT
DTSTART;VALUE=DATE:20250110
DTEND;VALUE=DATE:20250111
DTSTAMP:20260422T104050
CREATED:20240908T085330Z
LAST-MODIFIED:20240908T085519Z
UID:2235-1736467200-1736553599@www.hantsiowkt.org.uk
SUMMARY:Royal Naval Preceptory & Priory No.2 - Installation
DESCRIPTION:Portsmouth
URL:https://www.hantsiowkt.org.uk/event/royal-naval-preceptory-priory-no-2-2/
END:VEVENT
BEGIN:VEVENT
DTSTART;VALUE=DATE:20250114
DTEND;VALUE=DATE:20250115
DTSTAMP:20260422T104050
CREATED:20240908T141442Z
LAST-MODIFIED:20240908T141451Z
UID:2333-1736812800-1736899199@www.hantsiowkt.org.uk
SUMMARY:Frescewatre Preceptory & Priory No.575 - Malta
DESCRIPTION:East Cowes
URL:https://www.hantsiowkt.org.uk/event/frescewatre-preceptory-priory-no-575-2/
END:VEVENT
BEGIN:VEVENT
DTSTART;VALUE=DATE:20250115
DTEND;VALUE=DATE:20250116
DTSTAMP:20260422T104050
CREATED:20240908T090527Z
LAST-MODIFIED:20240909T183948Z
UID:2253-1736899200-1736985599@www.hantsiowkt.org.uk
SUMMARY:Royal Gloucester Preceptory & Priory No.32 - OFFICIAL VISIT
DESCRIPTION:Albion Place\, Southampton
URL:https://www.hantsiowkt.org.uk/event/royal-gloucester-preceptory-priory-no-32-copy/
END:VEVENT
BEGIN:VEVENT
DTSTART;VALUE=DATE:20250116
DTEND;VALUE=DATE:20250117
DTSTAMP:20260422T104050
CREATED:20240908T140804Z
LAST-MODIFIED:20240909T184010Z
UID:2312-1736985600-1737071999@www.hantsiowkt.org.uk
SUMMARY:Emmaus Preceptory & Priory No.569 - OFFICIAL VISIT
DESCRIPTION:Horndean
URL:https://www.hantsiowkt.org.uk/event/emmaus-preceptory-priory-no-569-2/
END:VEVENT
BEGIN:VEVENT
DTSTART;VALUE=DATE:20250116
DTEND;VALUE=DATE:20250117
DTSTAMP:20260422T104050
CREATED:20240908T141759Z
LAST-MODIFIED:20240908T141815Z
UID:2342-1736985600-1737071999@www.hantsiowkt.org.uk
SUMMARY:Parsifal Preceptory & Priory No.617
DESCRIPTION:Chandlers Ford
URL:https://www.hantsiowkt.org.uk/event/parsifal-preceptory-priory-no-617-2/
END:VEVENT
BEGIN:VEVENT
DTSTART;VALUE=DATE:20250124
DTEND;VALUE=DATE:20250125
DTSTAMP:20260422T104050
CREATED:20240908T141152Z
LAST-MODIFIED:20240908T141152Z
UID:2325-1737676800-1737763199@www.hantsiowkt.org.uk
SUMMARY:Excalibur Preceptory & Priory No.574
DESCRIPTION:Botley
URL:https://www.hantsiowkt.org.uk/event/excalibur-preceptory-priory-no-574-2/
END:VEVENT
BEGIN:VEVENT
DTSTART;VALUE=DATE:20250127
DTEND;VALUE=DATE:20250128
DTSTAMP:20260422T104050
CREATED:20240908T140529Z
LAST-MODIFIED:20240908T140529Z
UID:2303-1737936000-1738022399@www.hantsiowkt.org.uk
SUMMARY:St Michael & St Mary Preceptory No.432
DESCRIPTION:Andover
URL:https://www.hantsiowkt.org.uk/event/st-michael-st-mary-preceptory-no-432-2/
END:VEVENT
END:VCALENDAR