BEGIN:VCALENDAR
VERSION:2.0
PRODID:-//Provincial Priory of Hampshire and Isle of Wight - ECPv6.15.20//NONSGML v1.0//EN
CALSCALE:GREGORIAN
METHOD:PUBLISH
X-ORIGINAL-URL:https://www.hantsiowkt.org.uk
X-WR-CALDESC:Events for Provincial Priory of Hampshire and Isle of Wight
REFRESH-INTERVAL;VALUE=DURATION:PT1H
X-Robots-Tag:noindex
X-PUBLISHED-TTL:PT1H
BEGIN:VTIMEZONE
TZID:UTC
BEGIN:STANDARD
TZOFFSETFROM:+0000
TZOFFSETTO:+0000
TZNAME:UTC
DTSTART:20240101T000000
END:STANDARD
END:VTIMEZONE
BEGIN:VEVENT
DTSTART;VALUE=DATE:20250304
DTEND;VALUE=DATE:20250305
DTSTAMP:20260422T074823
CREATED:20240908T141528Z
LAST-MODIFIED:20240908T141528Z
UID:2336-1741046400-1741132799@www.hantsiowkt.org.uk
SUMMARY:Frescewatre Preceptory & Priory No.575
DESCRIPTION:East Cowes
URL:https://www.hantsiowkt.org.uk/event/frescewatre-preceptory-priory-no-575-3/
END:VEVENT
BEGIN:VEVENT
DTSTART;VALUE=DATE:20250307
DTEND;VALUE=DATE:20250308
DTSTAMP:20260422T074823
CREATED:20240908T085726Z
LAST-MODIFIED:20240908T085726Z
UID:2247-1741305600-1741391999@www.hantsiowkt.org.uk
SUMMARY:Sepulchre Preceptory & Sandeman Priory No.27 - Installation
DESCRIPTION:Christchurch
URL:https://www.hantsiowkt.org.uk/event/sepulchre-preceptory-sandeman-priory-no-27-installation/
END:VEVENT
BEGIN:VEVENT
DTSTART;VALUE=DATE:20250307
DTEND;VALUE=DATE:20250308
DTSTAMP:20260422T074823
CREATED:20240908T092543Z
LAST-MODIFIED:20240909T184108Z
UID:2297-1741305600-1741391999@www.hantsiowkt.org.uk
SUMMARY:Pilgrim Preceptory & Priory No.357 - OFFICIAL VISIT
DESCRIPTION:Havant
URL:https://www.hantsiowkt.org.uk/event/pilgrim-preceptory-priory-no-357-3/
END:VEVENT
BEGIN:VEVENT
DTSTART;VALUE=DATE:20250314
DTEND;VALUE=DATE:20250315
DTSTAMP:20260422T074823
CREATED:20240908T085410Z
LAST-MODIFIED:20240908T085410Z
UID:2237-1741910400-1741996799@www.hantsiowkt.org.uk
SUMMARY:Royal Naval Preceptory & Priory No.2 - MALTA
DESCRIPTION:Portsmouth
URL:https://www.hantsiowkt.org.uk/event/royal-naval-preceptory-priory-no-2-malta/
END:VEVENT
BEGIN:VEVENT
DTSTART;VALUE=DATE:20250320
DTEND;VALUE=DATE:20250321
DTSTAMP:20260422T074823
CREATED:20240908T140831Z
LAST-MODIFIED:20240908T140839Z
UID:2314-1742428800-1742515199@www.hantsiowkt.org.uk
SUMMARY:Emmaus Preceptory & Priory No.569 - Installation
DESCRIPTION:Horndean
URL:https://www.hantsiowkt.org.uk/event/emmaus-preceptory-priory-no-569-3/
END:VEVENT
BEGIN:VEVENT
DTSTART;VALUE=DATE:20250324
DTEND;VALUE=DATE:20250325
DTSTAMP:20260422T074823
CREATED:20240908T090654Z
LAST-MODIFIED:20240908T090654Z
UID:2256-1742774400-1742860799@www.hantsiowkt.org.uk
SUMMARY:Royal Gloucester Preceptory & Priory No.32
DESCRIPTION:Albion Place\, Southampton
URL:https://www.hantsiowkt.org.uk/event/royal-gloucester-preceptory-priory-no-32-2/
END:VEVENT
BEGIN:VEVENT
DTSTART;VALUE=DATE:20250324
DTEND;VALUE=DATE:20250325
DTSTAMP:20260422T074823
CREATED:20240908T140601Z
LAST-MODIFIED:20240909T184128Z
UID:2305-1742774400-1742860799@www.hantsiowkt.org.uk
SUMMARY:St Michael & St Mary Preceptory No.432 - OFFICIAL VISIT
DESCRIPTION:Andover
URL:https://www.hantsiowkt.org.uk/event/st-michael-st-mary-preceptory-no-432-3/
END:VEVENT
BEGIN:VEVENT
DTSTART;VALUE=DATE:20250328
DTEND;VALUE=DATE:20250329
DTSTAMP:20260422T074823
CREATED:20240908T141222Z
LAST-MODIFIED:20240908T141222Z
UID:2327-1743120000-1743206399@www.hantsiowkt.org.uk
SUMMARY:Excalibur Preceptory & Priory No.574
DESCRIPTION:Botley
URL:https://www.hantsiowkt.org.uk/event/excalibur-preceptory-priory-no-574-3/
END:VEVENT
END:VCALENDAR