BEGIN:VCALENDAR
VERSION:2.0
PRODID:-//Provincial Priory of Hampshire and Isle of Wight - ECPv6.15.20//NONSGML v1.0//EN
CALSCALE:GREGORIAN
METHOD:PUBLISH
X-ORIGINAL-URL:https://www.hantsiowkt.org.uk
X-WR-CALDESC:Events for Provincial Priory of Hampshire and Isle of Wight
REFRESH-INTERVAL;VALUE=DURATION:PT1H
X-Robots-Tag:noindex
X-PUBLISHED-TTL:PT1H
BEGIN:VTIMEZONE
TZID:UTC
BEGIN:STANDARD
TZOFFSETFROM:+0000
TZOFFSETTO:+0000
TZNAME:UTC
DTSTART:20240101T000000
END:STANDARD
END:VTIMEZONE
BEGIN:VEVENT
DTSTART;VALUE=DATE:20250417
DTEND;VALUE=DATE:20250418
DTSTAMP:20260422T063613
CREATED:20240908T141937Z
LAST-MODIFIED:20240909T184158Z
UID:2347-1744848000-1744934399@www.hantsiowkt.org.uk
SUMMARY:Parsifal Preceptory & Priory No.617 - OFFICIAL VISIT
DESCRIPTION:Chandlers Ford
URL:https://www.hantsiowkt.org.uk/event/parsifal-preceptory-priory-no-617-4/
END:VEVENT
BEGIN:VEVENT
DTSTART;VALUE=DATE:20250418
DTEND;VALUE=DATE:20250419
DTSTAMP:20260422T063613
CREATED:20240908T091809Z
LAST-MODIFIED:20240908T092236Z
UID:2290-1744934400-1745020799@www.hantsiowkt.org.uk
SUMMARY:Vectis Preceptory & Priory No.237
DESCRIPTION:Ryde – IOW
URL:https://www.hantsiowkt.org.uk/event/vectis-preceptory-priory-no-237-copy/
END:VEVENT
BEGIN:VEVENT
DTSTART;VALUE=DATE:20250428
DTEND;VALUE=DATE:20250429
DTSTAMP:20260422T063613
CREATED:20240908T091508Z
LAST-MODIFIED:20240909T184239Z
UID:2280-1745798400-1745884799@www.hantsiowkt.org.uk
SUMMARY:Loveland Preceptory & Priory No.194 - OFFICIAL VISIT
DESCRIPTION:Bournemouth
URL:https://www.hantsiowkt.org.uk/event/loveland-preceptory-priory-no-194-4/
END:VEVENT
END:VCALENDAR