BEGIN:VCALENDAR
VERSION:2.0
PRODID:-//Provincial Priory of Hampshire and Isle of Wight - ECPv6.15.20//NONSGML v1.0//EN
CALSCALE:GREGORIAN
METHOD:PUBLISH
X-WR-CALNAME:Provincial Priory of Hampshire and Isle of Wight
X-ORIGINAL-URL:https://www.hantsiowkt.org.uk
X-WR-CALDESC:Events for Provincial Priory of Hampshire and Isle of Wight
REFRESH-INTERVAL;VALUE=DURATION:PT1H
X-Robots-Tag:noindex
X-PUBLISHED-TTL:PT1H
BEGIN:VTIMEZONE
TZID:UTC
BEGIN:STANDARD
TZOFFSETFROM:+0000
TZOFFSETTO:+0000
TZNAME:UTC
DTSTART:20240101T000000
END:STANDARD
END:VTIMEZONE
BEGIN:VEVENT
DTSTART;VALUE=DATE:20250905
DTEND;VALUE=DATE:20250906
DTSTAMP:20260421T230928
CREATED:20250710T083500Z
LAST-MODIFIED:20250806T064208Z
UID:2479-1757030400-1757116799@www.hantsiowkt.org.uk
SUMMARY:Pilgrim Preceptory & Priory No.357
DESCRIPTION:
URL:https://www.hantsiowkt.org.uk/event/pilgrim-preceptory-priory-no-357-copy/
LOCATION:Havant\, Masonic Hall\, Waterloo Road\,\, Havant\, PO9 1BH\, United Kingdom
END:VEVENT
BEGIN:VEVENT
DTSTART;VALUE=DATE:20250906
DTEND;VALUE=DATE:20250907
DTSTAMP:20260421T230928
CREATED:20240908T083846Z
LAST-MODIFIED:20250710T081357Z
UID:2230-1757116800-1757203199@www.hantsiowkt.org.uk
SUMMARY:Provincial Priory Annual Meeting - Novotel Southampton
DESCRIPTION:The annual meeting of Provincial Priory and installation of new Provincial Prior
URL:https://www.hantsiowkt.org.uk/event/provincial-priory-annual-meeting/
LOCATION:Novotel Southampton
END:VEVENT
BEGIN:VEVENT
DTSTART;VALUE=DATE:20250922
DTEND;VALUE=DATE:20250923
DTSTAMP:20260421T230928
CREATED:20250710T082334Z
LAST-MODIFIED:20250806T063412Z
UID:2446-1758499200-1758585599@www.hantsiowkt.org.uk
SUMMARY:Royal Gloucester Preceptory & Priory No.32
DESCRIPTION:
URL:https://www.hantsiowkt.org.uk/event/royal-gloucester-preceptory-priory-no-32-4/
LOCATION:Southampton – Albion Place\, Masonic Hall\, Albion Place\, Southampton\, SO14 2DD\, United Kingdom
END:VEVENT
BEGIN:VEVENT
DTSTART;VALUE=DATE:20250922
DTEND;VALUE=DATE:20250923
DTSTAMP:20260421T230928
CREATED:20250710T082922Z
LAST-MODIFIED:20250806T063249Z
UID:2460-1758499200-1758585599@www.hantsiowkt.org.uk
SUMMARY:Loveland Preceptory & Priory No.194 - Official KT Visit
DESCRIPTION:
URL:https://www.hantsiowkt.org.uk/event/loveland-preceptory-priory-no-194-5/
LOCATION:Bournemouth\, Freemasons Hall\, Knole Road\,\, Bournemouth\, BH1 4DH\, United Kingdom
END:VEVENT
BEGIN:VEVENT
DTSTART;VALUE=DATE:20250926
DTEND;VALUE=DATE:20250927
DTSTAMP:20260421T230928
CREATED:20250710T081806Z
LAST-MODIFIED:20250806T063322Z
UID:2430-1758844800-1758931199@www.hantsiowkt.org.uk
SUMMARY:Royal Naval Preceptory & Priory No.2 - Official KT Visit
DESCRIPTION:
URL:https://www.hantsiowkt.org.uk/event/royal-naval-preceptory-priory-no-2-4/
LOCATION:Portsmouth\, Phoenix Lodge Rooms\, 110 High Street\,\, Portsmouth\, PO1 2HJ\, United Kingdom
END:VEVENT
END:VCALENDAR