BEGIN:VCALENDAR
VERSION:2.0
PRODID:-//Provincial Priory of Hampshire and Isle of Wight - ECPv6.15.20//NONSGML v1.0//EN
CALSCALE:GREGORIAN
METHOD:PUBLISH
X-WR-CALNAME:Provincial Priory of Hampshire and Isle of Wight
X-ORIGINAL-URL:https://www.hantsiowkt.org.uk
X-WR-CALDESC:Events for Provincial Priory of Hampshire and Isle of Wight
REFRESH-INTERVAL;VALUE=DURATION:PT1H
X-Robots-Tag:noindex
X-PUBLISHED-TTL:PT1H
BEGIN:VTIMEZONE
TZID:UTC
BEGIN:STANDARD
TZOFFSETFROM:+0000
TZOFFSETTO:+0000
TZNAME:UTC
DTSTART:20240101T000000
END:STANDARD
END:VTIMEZONE
BEGIN:VEVENT
DTSTART;VALUE=DATE:20251003
DTEND;VALUE=DATE:20251004
DTSTAMP:20260421T213632
CREATED:20250710T082053Z
LAST-MODIFIED:20250806T063127Z
UID:2438-1759449600-1759535999@www.hantsiowkt.org.uk
SUMMARY:Sepulchre Preceptory & Sandeman Priory No.27 - Official KM Visit
DESCRIPTION:
URL:https://www.hantsiowkt.org.uk/event/sepulchre-preceptory-sandeman-priory-no-27-4/
LOCATION:Christchurch\, Masonic Hall\, 45 Warren Avenue\, Christchurch\, BH23 3JY\, United Kingdom
END:VEVENT
BEGIN:VEVENT
DTSTART;VALUE=DATE:20251016
DTEND;VALUE=DATE:20251017
DTSTAMP:20260421T213632
CREATED:20250710T083922Z
LAST-MODIFIED:20250806T064555Z
UID:2496-1760572800-1760659199@www.hantsiowkt.org.uk
SUMMARY:Emmaus Preceptory & Priory No.569
DESCRIPTION:
URL:https://www.hantsiowkt.org.uk/event/emmaus-preceptory-priory-no-569-6/
LOCATION:Horndean\, Horndean Masonic Centre\, 19A Fiveheads Road\,\, Horndean\, Waterlooville\, PO8 9NW\, United Kingdom
END:VEVENT
BEGIN:VEVENT
DTSTART;VALUE=DATE:20251016
DTEND;VALUE=DATE:20251017
DTSTAMP:20260421T213632
CREATED:20250710T084640Z
LAST-MODIFIED:20250806T065841Z
UID:2522-1760572800-1760659199@www.hantsiowkt.org.uk
SUMMARY:Parsifal Preceptory & Priory No.617 - Daytime
DESCRIPTION:
URL:https://www.hantsiowkt.org.uk/event/parsifal-preceptory-priory-no-617-6/
LOCATION:Chandlers Ford\, Kings Court Masonic Centre\,\, Chandlers Ford\, SO53 2GG\, United Kingdom
END:VEVENT
BEGIN:VEVENT
DTSTART;VALUE=DATE:20251017
DTEND;VALUE=DATE:20251018
DTSTAMP:20260421T213632
CREATED:20250710T083148Z
LAST-MODIFIED:20250806T064003Z
UID:2469-1760659200-1760745599@www.hantsiowkt.org.uk
SUMMARY:Vectis Preceptory & Priory No.237
DESCRIPTION:
URL:https://www.hantsiowkt.org.uk/event/vectis-preceptory-priory-no-237-4/
LOCATION:Ryde\, Masonic Hall\, John Street\,\, Ryde\, PO33 2PZ\, United Kingdom
END:VEVENT
BEGIN:VEVENT
DTSTART;VALUE=DATE:20251027
DTEND;VALUE=DATE:20251028
DTSTAMP:20260421T213632
CREATED:20250710T082718Z
LAST-MODIFIED:20250806T063722Z
UID:2454-1761523200-1761609599@www.hantsiowkt.org.uk
SUMMARY:William Stuart Preceptory & Priory No.76A
DESCRIPTION:
URL:https://www.hantsiowkt.org.uk/event/william-stuart-preceptory-priory-no-76a-3/
LOCATION:Alton\, Masonic Hall\, Market Street\, Alton\, GU34 1HA\, United Kingdom
END:VEVENT
BEGIN:VEVENT
DTSTART;VALUE=DATE:20251030
DTEND;VALUE=DATE:20251031
DTSTAMP:20260421T213632
CREATED:20250710T084120Z
LAST-MODIFIED:20250806T073727Z
UID:2504-1761782400-1761868799@www.hantsiowkt.org.uk
SUMMARY:Excalibur Preceptory & Priory No.574 - CHANGE OF DATE
DESCRIPTION:
URL:https://www.hantsiowkt.org.uk/event/excalibur-preceptory-priory-no-574-6/
LOCATION:Botley\, Brook House Masonic Centre\,\, Botley\, SO30 2ER\, United Kingdom
END:VEVENT
END:VCALENDAR