BEGIN:VCALENDAR
VERSION:2.0
PRODID:-//Provincial Priory of Hampshire and Isle of Wight - ECPv6.15.20//NONSGML v1.0//EN
CALSCALE:GREGORIAN
METHOD:PUBLISH
X-ORIGINAL-URL:https://www.hantsiowkt.org.uk
X-WR-CALDESC:Events for Provincial Priory of Hampshire and Isle of Wight
REFRESH-INTERVAL;VALUE=DURATION:PT1H
X-Robots-Tag:noindex
X-PUBLISHED-TTL:PT1H
BEGIN:VTIMEZONE
TZID:UTC
BEGIN:STANDARD
TZOFFSETFROM:+0000
TZOFFSETTO:+0000
TZNAME:UTC
DTSTART:20240101T000000
END:STANDARD
END:VTIMEZONE
BEGIN:VEVENT
DTSTART;VALUE=DATE:20251104
DTEND;VALUE=DATE:20251105
DTSTAMP:20260421T201318
CREATED:20250710T084326Z
LAST-MODIFIED:20250806T065507Z
UID:2512-1762214400-1762300799@www.hantsiowkt.org.uk
SUMMARY:Frescewatre Preceptory & Priory No.575
DESCRIPTION:
URL:https://www.hantsiowkt.org.uk/event/frescewatre-preceptory-priory-no-575-6/
LOCATION:East Cowes\, Masonic Hall\, Osborne Road\,\, East Cowes\, Isle of Wight\, PO32 6RY\, United Kingdom
END:VEVENT
BEGIN:VEVENT
DTSTART;VALUE=DATE:20251124
DTEND;VALUE=DATE:20251125
DTSTAMP:20260421T201318
CREATED:20250710T082953Z
LAST-MODIFIED:20250806T061000Z
UID:2463-1763942400-1764028799@www.hantsiowkt.org.uk
SUMMARY:Loveland Preceptory & Priory No.194
DESCRIPTION:
URL:https://www.hantsiowkt.org.uk/event/loveland-preceptory-priory-no-194-6/
LOCATION:Bournemouth\, Freemasons Hall\, Knole Road\,\, Bournemouth\, BH1 4DH\, United Kingdom
END:VEVENT
BEGIN:VEVENT
DTSTART;VALUE=DATE:20251124
DTEND;VALUE=DATE:20251125
DTSTAMP:20260421T201318
CREATED:20250710T083729Z
LAST-MODIFIED:20250806T064412Z
UID:2488-1763942400-1764028799@www.hantsiowkt.org.uk
SUMMARY:St Michael & St Mary Preceptory No.432
DESCRIPTION:
URL:https://www.hantsiowkt.org.uk/event/st-michael-st-mary-preceptory-no-432-6/
LOCATION:Andover\, Masonic Hall\, East Street\, Andover\, SP10 1EP\, United Kingdom
END:VEVENT
END:VCALENDAR