BEGIN:VCALENDAR
VERSION:2.0
PRODID:-//Provincial Priory of Hampshire and Isle of Wight - ECPv6.15.20//NONSGML v1.0//EN
CALSCALE:GREGORIAN
METHOD:PUBLISH
X-ORIGINAL-URL:https://www.hantsiowkt.org.uk
X-WR-CALDESC:Events for Provincial Priory of Hampshire and Isle of Wight
REFRESH-INTERVAL;VALUE=DURATION:PT1H
X-Robots-Tag:noindex
X-PUBLISHED-TTL:PT1H
BEGIN:VTIMEZONE
TZID:UTC
BEGIN:STANDARD
TZOFFSETFROM:+0000
TZOFFSETTO:+0000
TZNAME:UTC
DTSTART:20240101T000000
END:STANDARD
END:VTIMEZONE
BEGIN:VEVENT
DTSTART;VALUE=DATE:20251203
DTEND;VALUE=DATE:20251204
DTSTAMP:20260421T184351
CREATED:20250710T083243Z
LAST-MODIFIED:20250812T144134Z
UID:2471-1764720000-1764806399@www.hantsiowkt.org.uk
SUMMARY:Vectis Preceptory & Priory No.237 - CENTENARY MEETING - Official KT Meeting
DESCRIPTION:COWES
URL:https://www.hantsiowkt.org.uk/event/vectis-preceptory-priory-no-237-centenary-meeting/
LOCATION:Cowes Masonic Centre\, 26 Castle Rd\, Cowes\, Cowes\, PO31 7QZ
END:VEVENT
BEGIN:VEVENT
DTSTART;VALUE=DATE:20251205
DTEND;VALUE=DATE:20251206
DTSTAMP:20260421T184351
CREATED:20250710T082127Z
LAST-MODIFIED:20250806T063109Z
UID:2440-1764892800-1764979199@www.hantsiowkt.org.uk
SUMMARY:Sepulchre Preceptory & Sandeman Priory No.27 - Official KT Visit
DESCRIPTION:
URL:https://www.hantsiowkt.org.uk/event/sepulchre-preceptory-sandeman-priory-no-27-5/
LOCATION:Christchurch\, Masonic Hall\, 45 Warren Avenue\, Christchurch\, BH23 3JY\, United Kingdom
END:VEVENT
BEGIN:VEVENT
DTSTART;VALUE=DATE:20251205
DTEND;VALUE=DATE:20251206
DTSTAMP:20260421T184351
CREATED:20250710T083532Z
LAST-MODIFIED:20250806T064152Z
UID:2482-1764892800-1764979199@www.hantsiowkt.org.uk
SUMMARY:Pilgrim Preceptory & Priory No.357
DESCRIPTION:
URL:https://www.hantsiowkt.org.uk/event/pilgrim-preceptory-priory-no-357-6/
LOCATION:Havant\, Masonic Hall\, Waterloo Road\,\, Havant\, PO9 1BH\, United Kingdom
END:VEVENT
END:VCALENDAR