BEGIN:VCALENDAR
VERSION:2.0
PRODID:-//Provincial Priory of Hampshire and Isle of Wight - ECPv6.15.20//NONSGML v1.0//EN
CALSCALE:GREGORIAN
METHOD:PUBLISH
X-ORIGINAL-URL:https://www.hantsiowkt.org.uk
X-WR-CALDESC:Events for Provincial Priory of Hampshire and Isle of Wight
REFRESH-INTERVAL;VALUE=DURATION:PT1H
X-Robots-Tag:noindex
X-PUBLISHED-TTL:PT1H
BEGIN:VTIMEZONE
TZID:UTC
BEGIN:STANDARD
TZOFFSETFROM:+0000
TZOFFSETTO:+0000
TZNAME:UTC
DTSTART:20250101T000000
END:STANDARD
END:VTIMEZONE
BEGIN:VEVENT
DTSTART;VALUE=DATE:20260109
DTEND;VALUE=DATE:20260110
DTSTAMP:20260421T171038
CREATED:20250710T081837Z
LAST-MODIFIED:20250806T061547Z
UID:2432-1767916800-1768003199@www.hantsiowkt.org.uk
SUMMARY:Royal Naval Preceptory & Priory No.2
DESCRIPTION:
URL:https://www.hantsiowkt.org.uk/event/royal-naval-preceptory-priory-no-2-5/
LOCATION:Portsmouth\, Phoenix Lodge Rooms\, 110 High Street\,\, Portsmouth\, PO1 2HJ\, United Kingdom
END:VEVENT
BEGIN:VEVENT
DTSTART;VALUE=DATE:20260113
DTEND;VALUE=DATE:20260114
DTSTAMP:20260421T171038
CREATED:20250710T084412Z
LAST-MODIFIED:20250806T065521Z
UID:2515-1768262400-1768348799@www.hantsiowkt.org.uk
SUMMARY:Frescewatre Preceptory & Priory No.575
DESCRIPTION:
URL:https://www.hantsiowkt.org.uk/event/frescewatre-preceptory-priory-no-575-7/
LOCATION:East Cowes\, Masonic Hall\, Osborne Road\,\, East Cowes\, Isle of Wight\, PO32 6RY\, United Kingdom
END:VEVENT
BEGIN:VEVENT
DTSTART;VALUE=DATE:20260115
DTEND;VALUE=DATE:20260116
DTSTAMP:20260421T171038
CREATED:20250710T083952Z
LAST-MODIFIED:20250806T064538Z
UID:2498-1768435200-1768521599@www.hantsiowkt.org.uk
SUMMARY:Emmaus Preceptory & Priory No.569
DESCRIPTION:
URL:https://www.hantsiowkt.org.uk/event/emmaus-preceptory-priory-no-569-7/
LOCATION:Horndean\, Horndean Masonic Centre\, 19A Fiveheads Road\,\, Horndean\, Waterlooville\, PO8 9NW\, United Kingdom
END:VEVENT
BEGIN:VEVENT
DTSTART;VALUE=DATE:20260115
DTEND;VALUE=DATE:20260116
DTSTAMP:20260421T171038
CREATED:20250710T084701Z
LAST-MODIFIED:20250806T065849Z
UID:2524-1768435200-1768521599@www.hantsiowkt.org.uk
SUMMARY:Parsifal Preceptory & Priory No.617 - Daytime
DESCRIPTION:
URL:https://www.hantsiowkt.org.uk/event/parsifal-preceptory-priory-no-617-7/
LOCATION:Chandlers Ford\, Kings Court Masonic Centre\,\, Chandlers Ford\, SO53 2GG\, United Kingdom
END:VEVENT
BEGIN:VEVENT
DTSTART;VALUE=DATE:20260121
DTEND;VALUE=DATE:20260122
DTSTAMP:20260421T171038
CREATED:20250710T082437Z
LAST-MODIFIED:20250806T063501Z
UID:2448-1768953600-1769039999@www.hantsiowkt.org.uk
SUMMARY:Royal Gloucester Preceptory & Priory No.32 - Official KT Visit
DESCRIPTION:
URL:https://www.hantsiowkt.org.uk/event/royal-gloucester-preceptory-priory-no-32-5/
LOCATION:Southampton – Albion Place\, Masonic Hall\, Albion Place\, Southampton\, SO14 2DD\, United Kingdom
END:VEVENT
BEGIN:VEVENT
DTSTART;VALUE=DATE:20260123
DTEND;VALUE=DATE:20260124
DTSTAMP:20260421T171038
CREATED:20250710T084144Z
LAST-MODIFIED:20250806T065130Z
UID:2506-1769126400-1769212799@www.hantsiowkt.org.uk
SUMMARY:Excalibur Preceptory & Priory No.574 - Official KM Visit
DESCRIPTION:
URL:https://www.hantsiowkt.org.uk/event/excalibur-preceptory-priory-no-574-7/
LOCATION:Botley\, Brook House Masonic Centre\,\, Botley\, SO30 2ER\, United Kingdom
END:VEVENT
BEGIN:VEVENT
DTSTART;VALUE=DATE:20260126
DTEND;VALUE=DATE:20260127
DTSTAMP:20260421T171038
CREATED:20250710T083753Z
LAST-MODIFIED:20250806T064400Z
UID:2490-1769385600-1769471999@www.hantsiowkt.org.uk
SUMMARY:St Michael & St Mary Preceptory No.432 - Official KT Visit
DESCRIPTION:
URL:https://www.hantsiowkt.org.uk/event/st-michael-st-mary-preceptory-no-432-7/
LOCATION:Andover\, Masonic Hall\, East Street\, Andover\, SP10 1EP\, United Kingdom
END:VEVENT
END:VCALENDAR