BEGIN:VCALENDAR
VERSION:2.0
PRODID:-//Provincial Priory of Hampshire and Isle of Wight - ECPv6.15.20//NONSGML v1.0//EN
CALSCALE:GREGORIAN
METHOD:PUBLISH
X-ORIGINAL-URL:https://www.hantsiowkt.org.uk
X-WR-CALDESC:Events for Provincial Priory of Hampshire and Isle of Wight
REFRESH-INTERVAL;VALUE=DURATION:PT1H
X-Robots-Tag:noindex
X-PUBLISHED-TTL:PT1H
BEGIN:VTIMEZONE
TZID:UTC
BEGIN:STANDARD
TZOFFSETFROM:+0000
TZOFFSETTO:+0000
TZNAME:UTC
DTSTART:20250101T000000
END:STANDARD
END:VTIMEZONE
BEGIN:VEVENT
DTSTART;VALUE=DATE:20260219
DTEND;VALUE=DATE:20260220
DTSTAMP:20260421T154122
CREATED:20250710T084728Z
LAST-MODIFIED:20250806T065856Z
UID:2526-1771459200-1771545599@www.hantsiowkt.org.uk
SUMMARY:Parsifal Preceptory & Priory No.617 - Daytime
DESCRIPTION:
URL:https://www.hantsiowkt.org.uk/event/parsifal-preceptory-priory-no-617-8/
LOCATION:Chandlers Ford\, Kings Court Masonic Centre\,\, Chandlers Ford\, SO53 2GG\, United Kingdom
END:VEVENT
BEGIN:VEVENT
DTSTART;VALUE=DATE:20260220
DTEND;VALUE=DATE:20260221
DTSTAMP:20260421T154122
CREATED:20250710T083324Z
LAST-MODIFIED:20250806T064015Z
UID:2473-1771545600-1771631999@www.hantsiowkt.org.uk
SUMMARY:Vectis Preceptory & Priory No.237
DESCRIPTION:
URL:https://www.hantsiowkt.org.uk/event/vectis-preceptory-priory-no-237-5/
LOCATION:Ryde\, Masonic Hall\, John Street\,\, Ryde\, PO33 2PZ\, United Kingdom
END:VEVENT
BEGIN:VEVENT
DTSTART;VALUE=DATE:20260223
DTEND;VALUE=DATE:20260224
DTSTAMP:20260421T154122
CREATED:20250710T082755Z
LAST-MODIFIED:20250806T063801Z
UID:2456-1771804800-1771891199@www.hantsiowkt.org.uk
SUMMARY:William Stuart Preceptory & Priory No.76A - Official KM Visit
DESCRIPTION:
URL:https://www.hantsiowkt.org.uk/event/william-stuart-preceptory-priory-no-76a-4/
LOCATION:Alton\, Masonic Hall\, Market Street\, Alton\, GU34 1HA\, United Kingdom
END:VEVENT
BEGIN:VEVENT
DTSTART;VALUE=DATE:20260223
DTEND;VALUE=DATE:20260224
DTSTAMP:20260421T154122
CREATED:20250710T083022Z
LAST-MODIFIED:20250806T060940Z
UID:2465-1771804800-1771891199@www.hantsiowkt.org.uk
SUMMARY:Loveland Preceptory & Priory No.194
DESCRIPTION:
URL:https://www.hantsiowkt.org.uk/event/loveland-preceptory-priory-no-194-7/
LOCATION:Bournemouth\, Freemasons Hall\, Knole Road\,\, Bournemouth\, BH1 4DH\, United Kingdom
END:VEVENT
END:VCALENDAR